BEGIN:VCALENDAR
VERSION:2.0
PRODID:wilsonauctioneers.com
BEGIN:VEVENT
UID:69ed46dd2cdac
DTSTART:20260414T160000Z
SEQUENCE:0
TRANSP:OPAQUE
DTEND:20260414T162000Z
LOCATION:3898 HWY 367:Searcy
SUMMARY:498± ACRE LAND AUCTION ALONG I-57 & HWY 367\, PASTURE\, PONDS & TI
 MBER – WHITE CO.\, SEARCY\, AR
CLASS:PUBLIC
DTSTAMP:20260425T225733Z
END:VEVENT
END:VCALENDAR