BEGIN:VCALENDAR
VERSION:2.0
PRODID:wilsonauctioneers.com
BEGIN:VEVENT
UID:69e5072e46838
DTSTART:20260521T160000Z
SEQUENCE:0
TRANSP:OPAQUE
DTEND:20260521T161500Z
LOCATION:6 Crooked Creek Road:Conway
SUMMARY:FAULKNER COUNTY HOME AUCTION – CONWAY\, AR
CLASS:PUBLIC
DTSTAMP:20260419T164742Z
END:VEVENT
END:VCALENDAR