BEGIN:VCALENDAR
VERSION:2.0
PRODID:wilsonauctioneers.com
BEGIN:VEVENT
UID:69e504dd4c5a5
DTSTART:20260529T160000Z
SEQUENCE:0
TRANSP:OPAQUE
DTEND:20260529T161500Z
LOCATION:6867 Airport Road:Bonnerdale
SUMMARY:GARLAND COUNTY 110± ACRE THOROUGHBRED HORSE FARM AUCTION – BONNE
 RDALE\, AR
CLASS:PUBLIC
DTSTAMP:20260419T163749Z
END:VEVENT
END:VCALENDAR