BEGIN:VCALENDAR
VERSION:2.0
PRODID:wilsonauctioneers.com
BEGIN:VEVENT
UID:69eac1469a303
DTSTART:20180426T190000Z
SEQUENCE:0
TRANSP:OPAQUE
DTEND:20180426T200000Z
LOCATION:6111 Dot Tipton Road:Fayetteville
SUMMARY:ABSOLUTE RESIDENTIAL DEVELOPMENT REAL ESTATE AUCTION ~ FAYETTEVILLE
 \, AR
CLASS:PUBLIC
DTSTAMP:20260424T010302Z
END:VEVENT
END:VCALENDAR