BEGIN:VCALENDAR
VERSION:2.0
PRODID:wilsonauctioneers.com
BEGIN:VEVENT
UID:69eb534aa1e47
DTSTART:20230921T160000Z
SEQUENCE:0
TRANSP:OPAQUE
DTEND:20230922T160000Z
LOCATION:3 Longview Cove:Little Rock
SUMMARY:WEST LITTLE ROCK LONGLEA ADDITION LUXURY FAMILY HOME AUCTION
CLASS:PUBLIC
DTSTAMP:20260424T112602Z
END:VEVENT
END:VCALENDAR