BEGIN:VCALENDAR
VERSION:2.0
PRODID:wilsonauctioneers.com
BEGIN:VEVENT
UID:69e944826dfc0
DTSTART:20230816T000000Z
SEQUENCE:0
TRANSP:OPAQUE
DTEND:20230830T230000Z
LOCATION:4955 Malvern Road:Hot Springs
SUMMARY:ONLINE ONLY CAMPER\, METAL CONTAINERS\, GRADER\, TANKS\, CONCRETE F
 ORMS\, ROAD CONSTRUCTION BARRELS & RUBBER MULCH ABSOLUTE AUCTION
CLASS:PUBLIC
DTSTAMP:20260422T215826Z
END:VEVENT
END:VCALENDAR