BEGIN:VCALENDAR
VERSION:2.0
PRODID:wilsonauctioneers.com
BEGIN:VEVENT
UID:69e7459721a7c
DTSTART:20231025T140000Z
SEQUENCE:0
TRANSP:OPAQUE
DTEND:20231102T010000Z
LOCATION:532 Airport Road:Hot Springs
SUMMARY:BROWNING GUN ONLINE ESTATE AUCTION
CLASS:PUBLIC
DTSTAMP:20260421T093831Z
END:VEVENT
END:VCALENDAR