BEGIN:VCALENDAR
VERSION:2.0
PRODID:wilsonauctioneers.com
BEGIN:VEVENT
UID:69ec243a36dc1
DTSTART:20231117T170000Z
SEQUENCE:0
TRANSP:OPAQUE
DTEND:20231118T170000Z
LOCATION:16920 HWY 79:Kingsland
SUMMARY:KINGSLAND MULTI-PARCEL HOME & LAND AUCTION
CLASS:PUBLIC
DTSTAMP:20260425T021730Z
END:VEVENT
END:VCALENDAR