BEGIN:VCALENDAR
VERSION:2.0
PRODID:wilsonauctioneers.com
BEGIN:VEVENT
UID:69eaff0d4ff7b
DTSTART:20240730T190000Z
SEQUENCE:0
TRANSP:OPAQUE
DTEND:20240731T190000Z
LOCATION:1103 Deer Run Lane:Camp
SUMMARY:184+/- ACRE FULTON COUNTY FARM AUCTION
CLASS:PUBLIC
DTSTAMP:20260424T052637Z
END:VEVENT
END:VCALENDAR