BEGIN:VCALENDAR
VERSION:2.0
PRODID:wilsonauctioneers.com
BEGIN:VEVENT
UID:69e73496bac20
DTSTART:20240820T160000Z
SEQUENCE:0
TRANSP:OPAQUE
DTEND:20240821T160000Z
LOCATION:32 Mathew Hill:Story
SUMMARY:MONTGOMERY COUNTY 3 HOME ABSOLUTE AUCTION
CLASS:PUBLIC
DTSTAMP:20260421T082558Z
END:VEVENT
END:VCALENDAR