BEGIN:VCALENDAR
VERSION:2.0
PRODID:wilsonauctioneers.com
BEGIN:VEVENT
UID:69ed44952115b
DTSTART:20260226T170000Z
SEQUENCE:0
TRANSP:OPAQUE
DTEND:20260226T173000Z
LOCATION:Mopac Road:Brinkley
SUMMARY:NO RESERVE MARTIN FAMILY 328± ACRE ROW CROP FARM & HUNTING LAND AU
 CTION – BRINKLEY\, AR
CLASS:PUBLIC
DTSTAMP:20260425T224749Z
END:VEVENT
END:VCALENDAR