BEGIN:VCALENDAR
VERSION:2.0
PRODID:wilsonauctioneers.com
BEGIN:VEVENT
UID:69e747de0e7ac
DTSTART:20260416T160000Z
SEQUENCE:0
TRANSP:OPAQUE
DTEND:20260416T161500Z
LOCATION:707 Old Brundage Road:Hot Springs
SUMMARY:LAKE HAMILTON LUXURY HOME ABSOLUTE AUCTION – HOT SPRINGS\, AR
CLASS:PUBLIC
DTSTAMP:20260421T094814Z
END:VEVENT
END:VCALENDAR