BEGIN:VCALENDAR
VERSION:2.0
PRODID:wilsonauctioneers.com
BEGIN:VEVENT
UID:69e747ad40a9e
DTSTART:20260209T170000Z
SEQUENCE:0
TRANSP:OPAQUE
DTEND:20260211T200000Z
LOCATION:4880 Dabney Road:Jerusalem
SUMMARY:ONLINE ONLY NO RESERVE 80 ACRE LAND AUCTION – JERUSALEM\, AR
CLASS:PUBLIC
DTSTAMP:20260421T094725Z
END:VEVENT
END:VCALENDAR