BEGIN:VCALENDAR
VERSION:2.0
PRODID:wilsonauctioneers.com
BEGIN:VEVENT
UID:69ed45d24b930
DTSTART:20260319T160000Z
SEQUENCE:0
TRANSP:OPAQUE
DTEND:20260319T161500Z
LOCATION:606 Albert Pike Road:Hot Springs
SUMMARY:COMMERCIAL & RESIDENTIAL INVESTMENT PROPERTY AUCTION – HOT SPRING
 S\, AR
CLASS:PUBLIC
DTSTAMP:20260425T225306Z
END:VEVENT
END:VCALENDAR