BEGIN:VCALENDAR
VERSION:2.0
PRODID:wilsonauctioneers.com
BEGIN:VEVENT
UID:69e734ab00456
DTSTART:20260202T180000Z
SEQUENCE:0
TRANSP:OPAQUE
DTEND:20260219T000000Z
LOCATION:929 Airport Road:Hot Springs
SUMMARY:ONLINE ONLY “SILVER COINS\, COLLECTIBLE COINS & CURRENCY” NO RE
 SERVE AUCTION – HOT SPRINGS\, AR
CLASS:PUBLIC
DTSTAMP:20260421T082619Z
END:VEVENT
END:VCALENDAR