BEGIN:VCALENDAR
VERSION:2.0
PRODID:wilsonauctioneers.com
BEGIN:VEVENT
UID:69ed445c78e9a
DTSTART:20260311T160000Z
SEQUENCE:0
TRANSP:OPAQUE
DTEND:20260311T161500Z
LOCATION:1915 Walkers Trail:Conway
SUMMARY:COMMERCIAL BUILDING AUCTION – CONWAY\, AR
CLASS:PUBLIC
DTSTAMP:20260425T224652Z
END:VEVENT
END:VCALENDAR