BEGIN:VCALENDAR
VERSION:2.0
PRODID:wilsonauctioneers.com
BEGIN:VEVENT
UID:69ed42321ee34
DTSTART:20260318T190000Z
SEQUENCE:0
TRANSP:OPAQUE
DTEND:20260318T191500Z
LOCATION:2400 Highway 25:Quitman
SUMMARY:97± ACRE LAND & MINERAL RIGHTS AUCTION – QUITMAN\, AR
CLASS:PUBLIC
DTSTAMP:20260425T223738Z
END:VEVENT
END:VCALENDAR